BEGIN:VCALENDAR
VERSION:2.0
PRODID:-//Brewhouse - ECPv4.6.10.1//NONSGML v1.0//EN
CALSCALE:GREGORIAN
METHOD:PUBLISH
X-WR-CALNAME:Brewhouse
X-ORIGINAL-URL:http://brewhouse.com.au
X-WR-CALDESC:Events for Brewhouse
BEGIN:VEVENT
DTSTART;TZID=Australia/Brisbane:20180225T113000
DTEND;TZID=Australia/Brisbane:20180225T210000
DTSTAMP:20180224T080502
CREATED:20180102T044202Z
LAST-MODIFIED:20180102T044202Z
UID:1614-1519558200-1519592400@brewhouse.com.au
SUMMARY:Sunday Roast
DESCRIPTION:The Sunday Roast is BACK! Every Sunday\, our chefs will be plating up a good ol’ fashion Sunday Roast with all the trimmings for only $20. Roast changes weekly. Available Sunday’s 11:30-9pm \n
URL:http://brewhouse.com.au/event/sunday-roast/2018-02-25/
ATTACH;FMTTYPE=image/jpeg:http://brewhouse.com.au/wp-content/uploads/2017/04/SUNDAY-ROAST-DL_WEB.jpg
END:VEVENT
BEGIN:VEVENT
DTSTART;TZID=Australia/Brisbane:20180301T173000
DTEND;TZID=Australia/Brisbane:20180301T210000
DTSTAMP:20180224T080502
CREATED:20180102T044026Z
LAST-MODIFIED:20180102T044026Z
UID:1605-1519925400-1519938000@brewhouse.com.au
SUMMARY:Burger + Beers
DESCRIPTION:Thursday nights are Burger + Beer nights. Buy any burger and receive a pot of Brisbane Brewing Co. beer. From $16! *Seasonal beer may be excluded. Every Thursday | 5:30-9pm \n
URL:http://brewhouse.com.au/event/burger-beers/2018-03-01/
ATTACH;FMTTYPE=image/jpeg:http://brewhouse.com.au/wp-content/uploads/2017/07/BURGERS_WEB.jpg
END:VEVENT
BEGIN:VEVENT
DTSTART;TZID=Australia/Brisbane:20180304T113000
DTEND;TZID=Australia/Brisbane:20180304T210000
DTSTAMP:20180224T080502
CREATED:20180102T044202Z
LAST-MODIFIED:20180102T044202Z
UID:1618-1520163000-1520197200@brewhouse.com.au
SUMMARY:Sunday Roast
DESCRIPTION:The Sunday Roast is BACK! Every Sunday\, our chefs will be plating up a good ol’ fashion Sunday Roast with all the trimmings for only $20. Roast changes weekly. Available Sunday’s 11:30-9pm \n
URL:http://brewhouse.com.au/event/sunday-roast/2018-03-04/
ATTACH;FMTTYPE=image/jpeg:http://brewhouse.com.au/wp-content/uploads/2017/04/SUNDAY-ROAST-DL_WEB.jpg
END:VEVENT
BEGIN:VEVENT
DTSTART;TZID=Australia/Brisbane:20180308T173000
DTEND;TZID=Australia/Brisbane:20180308T210000
DTSTAMP:20180224T080502
CREATED:20180102T044026Z
LAST-MODIFIED:20180102T044026Z
UID:1621-1520530200-1520542800@brewhouse.com.au
SUMMARY:Burger + Beers
DESCRIPTION:Thursday nights are Burger + Beer nights. Buy any burger and receive a pot of Brisbane Brewing Co. beer. From $16! *Seasonal beer may be excluded. Every Thursday | 5:30-9pm \n
URL:http://brewhouse.com.au/event/burger-beers/2018-03-08/
ATTACH;FMTTYPE=image/jpeg:http://brewhouse.com.au/wp-content/uploads/2017/07/BURGERS_WEB.jpg
END:VEVENT
BEGIN:VEVENT
DTSTART;VALUE=DATE:20180310
DTEND;VALUE=DATE:20180311
DTSTAMP:20180224T080502
CREATED:20180220T021209Z
LAST-MODIFIED:20180220T021209Z
UID:1710-1520640000-1520726399@brewhouse.com.au
SUMMARY:Tart & Fruity NSW Style
DESCRIPTION:NSW is coming to the Brewhouse! \nWe will have everything tart and fruity from barrel aged beauties to wild delights. Including breweries and beers that have never made it to Brisbane! \nWe will be featuring: The Grifter Brewing Company\, Wayward Brewing Company\, Willie the Boatman\, Modus Operandi Brewing Co.\, Bounty Hunter Brewing Company\, New England Brewing Company\, and Stone & Wood Brewing. \nWe love a good tart\, and we will see you there. \n
URL:http://brewhouse.com.au/event/tart-fruity-nsw-style/
CATEGORIES:Featured
ATTACH;FMTTYPE=image/png:http://brewhouse.com.au/wp-content/uploads/2018/02/I-Love-a-Good-Tart-Event-1.png
END:VEVENT
BEGIN:VEVENT
DTSTART;TZID=Australia/Brisbane:20180311T100000
DTEND;TZID=Australia/Brisbane:20180311T130000
DTSTAMP:20180224T080502
CREATED:20180220T020856Z
LAST-MODIFIED:20180220T020856Z
UID:1708-1520762400-1520773200@brewhouse.com.au
SUMMARY:Breakfast of Champions
DESCRIPTION:All champion efforts require a champion breakfast to see you through. \nGet your Brewsvegas fitness into shape and kick start your week of frivolities at the Brewhouse Woolloongabba Breakfast of Champions – Sunday 11th March\, 10am. \nWe are using all things ‘brewing’ to create the breakfast with grain in every course\, and a couple of surprises. \n+ plus \nLocally roasted coffee from Bear Bones Specialty Coffee to be followed with a selection of Brisbane Brewing Co. and Modus Operandi Brewing Co.brews. \n3 courses and 4 beers. \nTickets only $40!\nLimited tickets available – more than half are already SOLD! \n
URL:http://brewhouse.com.au/event/breakfast-of-champions/
CATEGORIES:Featured
ATTACH;FMTTYPE=image/png:http://brewhouse.com.au/wp-content/uploads/2018/02/Breaky-of-Champs-Event.png
END:VEVENT
BEGIN:VEVENT
DTSTART;TZID=Australia/Brisbane:20180311T113000
DTEND;TZID=Australia/Brisbane:20180311T210000
DTSTAMP:20180224T080502
CREATED:20180102T044202Z
LAST-MODIFIED:20180102T044202Z
UID:1628-1520767800-1520802000@brewhouse.com.au
SUMMARY:Sunday Roast
DESCRIPTION:The Sunday Roast is BACK! Every Sunday\, our chefs will be plating up a good ol’ fashion Sunday Roast with all the trimmings for only $20. Roast changes weekly. Available Sunday’s 11:30-9pm \n
URL:http://brewhouse.com.au/event/sunday-roast/2018-03-11/
ATTACH;FMTTYPE=image/jpeg:http://brewhouse.com.au/wp-content/uploads/2017/04/SUNDAY-ROAST-DL_WEB.jpg
END:VEVENT
BEGIN:VEVENT
DTSTART;TZID=Australia/Brisbane:20180315T173000
DTEND;TZID=Australia/Brisbane:20180315T210000
DTSTAMP:20180224T080502
CREATED:20180102T044026Z
LAST-MODIFIED:20180102T044026Z
UID:1631-1521135000-1521147600@brewhouse.com.au
SUMMARY:Burger + Beers
DESCRIPTION:Thursday nights are Burger + Beer nights. Buy any burger and receive a pot of Brisbane Brewing Co. beer. From $16! *Seasonal beer may be excluded. Every Thursday | 5:30-9pm \n
URL:http://brewhouse.com.au/event/burger-beers/2018-03-15/
ATTACH;FMTTYPE=image/jpeg:http://brewhouse.com.au/wp-content/uploads/2017/07/BURGERS_WEB.jpg
END:VEVENT
BEGIN:VEVENT
DTSTART;TZID=Australia/Brisbane:20180318T113000
DTEND;TZID=Australia/Brisbane:20180318T210000
DTSTAMP:20180224T080502
CREATED:20180102T044202Z
LAST-MODIFIED:20180102T044202Z
UID:1633-1521372600-1521406800@brewhouse.com.au
SUMMARY:Sunday Roast
DESCRIPTION:The Sunday Roast is BACK! Every Sunday\, our chefs will be plating up a good ol’ fashion Sunday Roast with all the trimmings for only $20. Roast changes weekly. Available Sunday’s 11:30-9pm \n
URL:http://brewhouse.com.au/event/sunday-roast/2018-03-18/
ATTACH;FMTTYPE=image/jpeg:http://brewhouse.com.au/wp-content/uploads/2017/04/SUNDAY-ROAST-DL_WEB.jpg
END:VEVENT
BEGIN:VEVENT
DTSTART;VALUE=DATE:20180317
DTEND;VALUE=DATE:20180319
DTSTAMP:20180224T080502
CREATED:20180220T021734Z
LAST-MODIFIED:20180220T021734Z
UID:1712-1521244800-1521417599@brewhouse.com.au
SUMMARY:On The Hoppier Side of Life
DESCRIPTION:NSW is coming to the Brewhouse with some of their best and hoppiest beers to punch our taste buds in the face. \nWith beers from: Sauce Brewing Co.\, Philter Brewing\, The Little Alchemist Brewing Co\, DeepWater Brewing Co.\, The Grifter Brewing Company\, Wayward Brewing Company\, Willie the Boatman\, Modus Operandi Brewing Co.\, Bounty Hunter Brewing Company\, New England Brewing Company\, and Stone & Wood Brewing\, you won’t know where to start! \nCheck out our Untapped page to see what’s currently on tap! \n
URL:http://brewhouse.com.au/event/on-the-hoppier-side-of-life/
CATEGORIES:Featured
ATTACH;FMTTYPE=image/png:http://brewhouse.com.au/wp-content/uploads/2018/02/I-Love-a-Good-Tart-Event-1.png
END:VEVENT
BEGIN:VEVENT
DTSTART;TZID=Australia/Brisbane:20180322T173000
DTEND;TZID=Australia/Brisbane:20180322T210000
DTSTAMP:20180224T080502
CREATED:20180102T044026Z
LAST-MODIFIED:20180102T044026Z
UID:1649-1521739800-1521752400@brewhouse.com.au
SUMMARY:Burger + Beers
DESCRIPTION:Thursday nights are Burger + Beer nights. Buy any burger and receive a pot of Brisbane Brewing Co. beer. From $16! *Seasonal beer may be excluded. Every Thursday | 5:30-9pm \n
URL:http://brewhouse.com.au/event/burger-beers/2018-03-22/
ATTACH;FMTTYPE=image/jpeg:http://brewhouse.com.au/wp-content/uploads/2017/07/BURGERS_WEB.jpg
END:VEVENT
BEGIN:VEVENT
DTSTART;TZID=Australia/Brisbane:20180325T113000
DTEND;TZID=Australia/Brisbane:20180325T210000
DTSTAMP:20180224T080502
CREATED:20180102T044202Z
LAST-MODIFIED:20180102T044202Z
UID:1651-1521977400-1522011600@brewhouse.com.au
SUMMARY:Sunday Roast
DESCRIPTION:The Sunday Roast is BACK! Every Sunday\, our chefs will be plating up a good ol’ fashion Sunday Roast with all the trimmings for only $20. Roast changes weekly. Available Sunday’s 11:30-9pm \n
URL:http://brewhouse.com.au/event/sunday-roast/2018-03-25/
ATTACH;FMTTYPE=image/jpeg:http://brewhouse.com.au/wp-content/uploads/2017/04/SUNDAY-ROAST-DL_WEB.jpg
END:VEVENT
BEGIN:VEVENT
DTSTART;TZID=Australia/Brisbane:20180329T173000
DTEND;TZID=Australia/Brisbane:20180329T210000
DTSTAMP:20180224T080502
CREATED:20180102T044026Z
LAST-MODIFIED:20180102T044026Z
UID:1654-1522344600-1522357200@brewhouse.com.au
SUMMARY:Burger + Beers
DESCRIPTION:Thursday nights are Burger + Beer nights. Buy any burger and receive a pot of Brisbane Brewing Co. beer. From $16! *Seasonal beer may be excluded. Every Thursday | 5:30-9pm \n
URL:http://brewhouse.com.au/event/burger-beers/2018-03-29/
ATTACH;FMTTYPE=image/jpeg:http://brewhouse.com.au/wp-content/uploads/2017/07/BURGERS_WEB.jpg
END:VEVENT
BEGIN:VEVENT
DTSTART;TZID=Australia/Brisbane:20180401T113000
DTEND;TZID=Australia/Brisbane:20180401T210000
DTSTAMP:20180224T080502
CREATED:20180102T044202Z
LAST-MODIFIED:20180102T044202Z
UID:1655-1522582200-1522616400@brewhouse.com.au
SUMMARY:Sunday Roast
DESCRIPTION:The Sunday Roast is BACK! Every Sunday\, our chefs will be plating up a good ol’ fashion Sunday Roast with all the trimmings for only $20. Roast changes weekly. Available Sunday’s 11:30-9pm \n
URL:http://brewhouse.com.au/event/sunday-roast/2018-04-01/
ATTACH;FMTTYPE=image/jpeg:http://brewhouse.com.au/wp-content/uploads/2017/04/SUNDAY-ROAST-DL_WEB.jpg
END:VEVENT
BEGIN:VEVENT
DTSTART;TZID=Australia/Brisbane:20180405T173000
DTEND;TZID=Australia/Brisbane:20180405T210000
DTSTAMP:20180224T080502
CREATED:20180102T044026Z
LAST-MODIFIED:20180102T044026Z
UID:1656-1522949400-1522962000@brewhouse.com.au
SUMMARY:Burger + Beers
DESCRIPTION:Thursday nights are Burger + Beer nights. Buy any burger and receive a pot of Brisbane Brewing Co. beer. From $16! *Seasonal beer may be excluded. Every Thursday | 5:30-9pm \n
URL:http://brewhouse.com.au/event/burger-beers/2018-04-05/
ATTACH;FMTTYPE=image/jpeg:http://brewhouse.com.au/wp-content/uploads/2017/07/BURGERS_WEB.jpg
END:VEVENT
BEGIN:VEVENT
DTSTART;TZID=Australia/Brisbane:20180408T113000
DTEND;TZID=Australia/Brisbane:20180408T210000
DTSTAMP:20180224T080502
CREATED:20180102T044202Z
LAST-MODIFIED:20180102T044202Z
UID:1657-1523187000-1523221200@brewhouse.com.au
SUMMARY:Sunday Roast
DESCRIPTION:The Sunday Roast is BACK! Every Sunday\, our chefs will be plating up a good ol’ fashion Sunday Roast with all the trimmings for only $20. Roast changes weekly. Available Sunday’s 11:30-9pm \n
URL:http://brewhouse.com.au/event/sunday-roast/2018-04-08/
ATTACH;FMTTYPE=image/jpeg:http://brewhouse.com.au/wp-content/uploads/2017/04/SUNDAY-ROAST-DL_WEB.jpg
END:VEVENT
BEGIN:VEVENT
DTSTART;TZID=Australia/Brisbane:20180412T173000
DTEND;TZID=Australia/Brisbane:20180412T210000
DTSTAMP:20180224T080502
CREATED:20180102T044026Z
LAST-MODIFIED:20180102T044026Z
UID:1702-1523554200-1523566800@brewhouse.com.au
SUMMARY:Burger + Beers
DESCRIPTION:Thursday nights are Burger + Beer nights. Buy any burger and receive a pot of Brisbane Brewing Co. beer. From $16! *Seasonal beer may be excluded. Every Thursday | 5:30-9pm \n
URL:http://brewhouse.com.au/event/burger-beers/2018-04-12/
ATTACH;FMTTYPE=image/jpeg:http://brewhouse.com.au/wp-content/uploads/2017/07/BURGERS_WEB.jpg
END:VEVENT
BEGIN:VEVENT
DTSTART;TZID=Australia/Brisbane:20180415T113000
DTEND;TZID=Australia/Brisbane:20180415T210000
DTSTAMP:20180224T080502
CREATED:20180102T044202Z
LAST-MODIFIED:20180102T044202Z
UID:1703-1523791800-1523826000@brewhouse.com.au
SUMMARY:Sunday Roast
DESCRIPTION:The Sunday Roast is BACK! Every Sunday\, our chefs will be plating up a good ol’ fashion Sunday Roast with all the trimmings for only $20. Roast changes weekly. Available Sunday’s 11:30-9pm \n
URL:http://brewhouse.com.au/event/sunday-roast/2018-04-15/
ATTACH;FMTTYPE=image/jpeg:http://brewhouse.com.au/wp-content/uploads/2017/04/SUNDAY-ROAST-DL_WEB.jpg
END:VEVENT
BEGIN:VEVENT
DTSTART;TZID=Australia/Brisbane:20180419T173000
DTEND;TZID=Australia/Brisbane:20180419T210000
DTSTAMP:20180224T080502
CREATED:20180102T044026Z
LAST-MODIFIED:20180102T044026Z
UID:1713-1524159000-1524171600@brewhouse.com.au
SUMMARY:Burger + Beers
DESCRIPTION:Thursday nights are Burger + Beer nights. Buy any burger and receive a pot of Brisbane Brewing Co. beer. From $16! *Seasonal beer may be excluded. Every Thursday | 5:30-9pm \n
URL:http://brewhouse.com.au/event/burger-beers/2018-04-19/
ATTACH;FMTTYPE=image/jpeg:http://brewhouse.com.au/wp-content/uploads/2017/07/BURGERS_WEB.jpg
END:VEVENT
BEGIN:VEVENT
DTSTART;TZID=Australia/Brisbane:20180422T113000
DTEND;TZID=Australia/Brisbane:20180422T210000
DTSTAMP:20180224T080502
CREATED:20180102T044202Z
LAST-MODIFIED:20180102T044202Z
UID:1740-1524396600-1524430800@brewhouse.com.au
SUMMARY:Sunday Roast
DESCRIPTION:The Sunday Roast is BACK! Every Sunday\, our chefs will be plating up a good ol’ fashion Sunday Roast with all the trimmings for only $20. Roast changes weekly. Available Sunday’s 11:30-9pm \n
URL:http://brewhouse.com.au/event/sunday-roast/2018-04-22/
ATTACH;FMTTYPE=image/jpeg:http://brewhouse.com.au/wp-content/uploads/2017/04/SUNDAY-ROAST-DL_WEB.jpg
END:VEVENT
END:VCALENDAR